BEGIN:VCALENDAR
VERSION:2.0
PRODID:-//Institute for Democratic Governance (IDEG) - ECPv6.6.0.2//NONSGML v1.0//EN
CALSCALE:GREGORIAN
METHOD:PUBLISH
X-WR-CALNAME:Institute for Democratic Governance (IDEG)
X-ORIGINAL-URL:https://ideg.org
X-WR-CALDESC:Events for Institute for Democratic Governance (IDEG)
REFRESH-INTERVAL;VALUE=DURATION:PT1H
X-Robots-Tag:noindex
X-PUBLISHED-TTL:PT1H
BEGIN:VTIMEZONE
TZID:UTC
BEGIN:STANDARD
TZOFFSETFROM:+0000
TZOFFSETTO:+0000
TZNAME:UTC
DTSTART:20230101T000000
END:STANDARD
END:VTIMEZONE
BEGIN:VEVENT
DTSTART;TZID=UTC:20230620T100000
DTEND;TZID=UTC:20230620T130000
DTSTAMP:20260423T192603
CREATED:20230619T170010Z
LAST-MODIFIED:20230619T170010Z
UID:14440-1687255200-1687266000@ideg.org
SUMMARY:TRAINING WORKSHOP
DESCRIPTION:“NOT-FOR-PROFIT ORGANSITIONS AND THE IMPLEMENTATION OF ANTI-MONEY LAUNDERING/COUNTERING THE FINANCING OF TERRORISM (AML/CFT) MEASURES IN GHANA”  \nTRAINING WORKSHOP
URL:https://ideg.org/event/training-workshop/
LOCATION:IDEG HOUSE\, # 24\, 24 Garden Rd\, Accra\, Accra\, East legon\, Ghana
ATTACH;FMTTYPE=image/jpeg:https://ideg.org/wp-content/uploads/2023/06/t-npos.jpeg
END:VEVENT
END:VCALENDAR