BEGIN:VCALENDAR
VERSION:2.0
PRODID:-//Institute for Democratic Governance (IDEG) - ECPv6.6.0.2//NONSGML v1.0//EN
CALSCALE:GREGORIAN
METHOD:PUBLISH
X-ORIGINAL-URL:https://ideg.org
X-WR-CALDESC:Events for Institute for Democratic Governance (IDEG)
REFRESH-INTERVAL;VALUE=DURATION:PT1H
X-Robots-Tag:noindex
X-PUBLISHED-TTL:PT1H
BEGIN:VTIMEZONE
TZID:UTC
BEGIN:STANDARD
TZOFFSETFROM:+0000
TZOFFSETTO:+0000
TZNAME:UTC
DTSTART:20230101T000000
END:STANDARD
END:VTIMEZONE
BEGIN:VEVENT
DTSTART;TZID=UTC:20231026T093000
DTEND;TZID=UTC:20231026T113000
DTSTAMP:20260423T135132
CREATED:20231025T170645Z
LAST-MODIFIED:20231025T170645Z
UID:14489-1698312600-1698319800@ideg.org
SUMMARY:LAUNCH OF THE 2022 CSO SUSTAINABILITY INDEX REPORT
DESCRIPTION:Launch of The 2022 CSO Sustainability Index Report  \n“Ghana’s Economic Crisis: Threats and Opportunities for CSO Sustainability”. \nThe CSO Sustainability Index report assesses the strength and overall viability of CSO sectors in Ghana and Africa. The report analyses seven dimensions that are critical to sectoral sustainability\, namely\, Legal Environment\, Organizational Capacity\, Financial Viability\, Advocacy\, Service Provision\, Infrastructure and Public Image.
URL:https://ideg.org/event/launch-of-the-2022-cso-sustainability-index-report/
LOCATION:East legon
ATTACH;FMTTYPE=image/jpeg:https://ideg.org/wp-content/uploads/2023/10/CSOSI22.jpg
END:VEVENT
END:VCALENDAR