BEGIN:VCALENDAR
VERSION:2.0
PRODID:-//Institute for Democratic Governance (IDEG) - ECPv6.6.0.2//NONSGML v1.0//EN
CALSCALE:GREGORIAN
METHOD:PUBLISH
X-ORIGINAL-URL:https://ideg.org
X-WR-CALDESC:Events for Institute for Democratic Governance (IDEG)
REFRESH-INTERVAL;VALUE=DURATION:PT1H
X-Robots-Tag:noindex
X-PUBLISHED-TTL:PT1H
BEGIN:VTIMEZONE
TZID:UTC
BEGIN:STANDARD
TZOFFSETFROM:+0000
TZOFFSETTO:+0000
TZNAME:UTC
DTSTART:20240101T000000
END:STANDARD
END:VTIMEZONE
BEGIN:VEVENT
DTSTART;TZID=UTC:20240620T130000
DTEND;TZID=UTC:20240620T150000
DTSTAMP:20260423T020446
CREATED:20240608T103048Z
LAST-MODIFIED:20240808T103525Z
UID:14617-1718888400-1718895600@ideg.org
SUMMARY:Post 2024 Limited Voter Registration Exercise - Evaluation Workshop
DESCRIPTION:
URL:https://ideg.org/event/post2024lvre/
LOCATION:IDEG HOUSE\, # 24\, 24 Garden Rd\, Accra\, Accra\, East legon\, Ghana
ATTACH;FMTTYPE=image/jpeg:https://ideg.org/wp-content/uploads/2024/08/GQduAg1WQAAA80n.jpeg
END:VEVENT
END:VCALENDAR