BEGIN:VCALENDAR
VERSION:2.0
PRODID:-//Institute for Democratic Governance (IDEG) - ECPv6.6.0.2//NONSGML v1.0//EN
CALSCALE:GREGORIAN
METHOD:PUBLISH
X-ORIGINAL-URL:https://ideg.org
X-WR-CALDESC:Events for Institute for Democratic Governance (IDEG)
REFRESH-INTERVAL;VALUE=DURATION:PT1H
X-Robots-Tag:noindex
X-PUBLISHED-TTL:PT1H
BEGIN:VTIMEZONE
TZID:UTC
BEGIN:STANDARD
TZOFFSETFROM:+0000
TZOFFSETTO:+0000
TZNAME:UTC
DTSTART:20240101T000000
END:STANDARD
END:VTIMEZONE
BEGIN:VEVENT
DTSTART;TZID=UTC:20240809T100000
DTEND;TZID=UTC:20241231T120000
DTSTAMP:20260422T174328
CREATED:20240808T024425Z
LAST-MODIFIED:20241205T185055Z
UID:14612-1723197600-1735646400@ideg.org
SUMMARY:A FORUM WITH ELECTORAL COMMISSION ON GUIDELINES FOR ELECTION OFFICERS AND THE PUBLICATION OF POLLING STATIONS RESULTS ON THE EC WEBSITE
DESCRIPTION:INVITATION TO A FORUM WITH ELECTORAL COMMISSION ON GUIDELINES FOR ELECTION OFFICERS AND THE PUBLICATION OF POLLING STATIONS RESULTS ON THE EC WEBSITE  \nThe Institute for Democratic Governance (IDEG) respectfully invites you to a Forum with Electoral Commission on Guidelines for Election Officers and the Publication of Polling Station Results on the EC Website scheduled for Friday 9thth August\, 2024\, 10:00am at the IDEG House. \nThe European Union (EU) as a result of some gaps identified by the EU Election Observer Mission (EOMs) before\, during\, and after the 2020 general elections in Ghana\, identified 18 recommendations to fine tune Ghana’s electoral process for the 2024 general elections and beyond. Five (5) out of the 18 recommendations have been prioritized by the European Union for implementation. Priority 1 and Priority 2 of the recommendations states that there should be (1) ‘Clear procedures for presiding officers\, returning officers and regional collation officers to be stipulated on how to proceed in cases of irregularities during the counting and collation process\, including over-voting\, mismatched reconciliation\, incomplete and wrongly filled in result forms’ and (2) Publishing comprehensive polling station and collation results on the EC’s website well before the election results petition filing deadline.  \nFor further information and clarification please contact Ms. Priscilla Akakpo on 0544-357752 or email pakakpo@ideg.org. \nWe look forward to your kind confirmation and participation.
URL:https://ideg.org/event/eueomrec/
LOCATION:IDEG HOUSE\, # 24\, 24 Garden Rd\, Accra\, Accra\, East legon\, Ghana
CATEGORIES:ideg
ATTACH;FMTTYPE=image/jpeg:https://ideg.org/wp-content/uploads/2024/08/NEW-FORUM.jpg
END:VEVENT
BEGIN:VEVENT
DTSTART;TZID=UTC:20241010T140000
DTEND;TZID=UTC:20241231T170000
DTSTAMP:20260422T174328
CREATED:20241008T000857Z
LAST-MODIFIED:20241205T184951Z
UID:14844-1728568800-1735664400@ideg.org
SUMMARY:GHANA SPEAKS HIGH-LEVEL FORUM 2024
DESCRIPTION:Theme: GHANA: CONSOLIDATING OUR NATION\, PEACE AND DEMOCRACY
URL:https://ideg.org/event/ghana-speaks-high-level-forum-2024/
LOCATION:Kempinski Gold Coast Hotel\, Greater Accra\, Accra\, 00233\, Ghana
CATEGORIES:ideg
ATTACH;FMTTYPE=image/jpeg:https://ideg.org/wp-content/uploads/2024/10/ideg-3.jpg
END:VEVENT
BEGIN:VEVENT
DTSTART;TZID=UTC:20241030T140000
DTEND;TZID=UTC:20241231T160000
DTSTAMP:20260422T174328
CREATED:20241029T152526Z
LAST-MODIFIED:20241205T184806Z
UID:14870-1730296800-1735660800@ideg.org
SUMMARY:AN IDEG-CYBER SECURITY FORUM
DESCRIPTION:GHANA SPEAKS SERIES: An IDEG-CYBER SECURITY FORUM IN CONJUNCTION WITH THE NATIONAL COMMUNICATION AUTHORITY AND THE NATIONAL MEDIA COMMISSION As we approach the December 2024 elections\, the stakes are even higher than at previous elections\, and it has become imperative to assure the public of how the CSA\, the NMC and NCA will co-operate to assuage the challenges in allaying the fears of the public and discouraging those who would want to exploit the growing threats to Ghana’s peace and democratic stability.
URL:https://ideg.org/event/an-ideg-cyber-security-forum/
LOCATION:IDEG HOUSE\, # 24\, 24 Garden Rd\, Accra\, Accra\, East legon\, Ghana
ATTACH;FMTTYPE=image/jpeg:https://ideg.org/wp-content/uploads/2024/10/main-ideg.jpg
END:VEVENT
BEGIN:VEVENT
DTSTART;TZID=UTC:20241128T140000
DTEND;TZID=UTC:20241231T173000
DTSTAMP:20260422T174328
CREATED:20241125T133909Z
LAST-MODIFIED:20241205T184841Z
UID:14886-1732802400-1735666200@ideg.org
SUMMARY:THE SIGNING OF THE 4TH PRESIDENTIAL ELECTIONS PEACE PACT 2024
DESCRIPTION:THE SIGNING OF THE 4TH PRESIDENTIAL ELECTIONS PEACE PACT 2024 \nTHEME: \nPursuing Peaceful Elections\, Non-Violence and Justice
URL:https://ideg.org/event/pepp2024/
LOCATION:Kempinski Gold Coast Hotel\, Greater Accra\, Accra\, 00233\, Ghana
ATTACH;FMTTYPE=image/jpeg:https://ideg.org/wp-content/uploads/2024/11/daily-graphic.jpg
END:VEVENT
END:VCALENDAR