BEGIN:VCALENDAR
VERSION:2.0
PRODID:-//Institute for Democratic Governance (IDEG) - ECPv6.6.0.2//NONSGML v1.0//EN
CALSCALE:GREGORIAN
METHOD:PUBLISH
X-WR-CALNAME:Institute for Democratic Governance (IDEG)
X-ORIGINAL-URL:https://ideg.org
X-WR-CALDESC:Events for Institute for Democratic Governance (IDEG)
REFRESH-INTERVAL;VALUE=DURATION:PT1H
X-Robots-Tag:noindex
X-PUBLISHED-TTL:PT1H
BEGIN:VTIMEZONE
TZID:UTC
BEGIN:STANDARD
TZOFFSETFROM:+0000
TZOFFSETTO:+0000
TZNAME:UTC
DTSTART:20230101T000000
END:STANDARD
END:VTIMEZONE
BEGIN:VEVENT
DTSTART;TZID=UTC:20241021T080000
DTEND;TZID=UTC:20241108T190000
DTSTAMP:20260422T222203
CREATED:20241031T024225Z
LAST-MODIFIED:20241205T190623Z
UID:14876-1729497600-1731092400@ideg.org
SUMMARY:2024 PRESIDENTIAL AND PARLIAMENTARY ELECTIONS - REGIONAL TRAINING WORKSHOPS FOR OBSERVERS
DESCRIPTION:IDEG & CFI Training Volunteers for Credible 2024 Elections! \nFrom October 21st to November 8th\, 2024\, the Institute for Democratic Governance (IDEG) and the Civic Forum Initiative (CFI) are actively training election observation volunteers across all 16 regions! This training activities\, with expert guidance from the Electoral Commission\, Ghana Police Service\, and seasoned election consultants\, is focused on equipping citizens with the skills and knowledge needed to contribute to free\, fair\, and peaceful elections.
URL:https://ideg.org/event/2024-presidential-and-parliamentary-elections-regional-training-workshops-for-observers/
LOCATION:East legon
ATTACH;FMTTYPE=image/jpeg:https://ideg.org/wp-content/uploads/2024/10/TRAINING-1.jpg
END:VEVENT
BEGIN:VEVENT
DTSTART;TZID=UTC:20240813T093000
DTEND;TZID=UTC:20240813T113000
DTSTAMP:20260422T222203
CREATED:20240830T110333Z
LAST-MODIFIED:20241007T231020Z
UID:14629-1723541400-1723548600@ideg.org
SUMMARY:Citizens-Security Forum Against Electoral Violence\, Vigilantism and Violent Extremism
DESCRIPTION:Citizens-Security Townhall Dialogue Forum – Wechiau\, Upper West Region
URL:https://ideg.org/event/caave13/
LOCATION:East legon
CATEGORIES:ideg
ATTACH;FMTTYPE=image/jpeg:https://ideg.org/wp-content/uploads/2024/08/457276754_814101520930442_6175167656258930442_n.jpg
END:VEVENT
BEGIN:VEVENT
DTSTART;TZID=UTC:20240620T130000
DTEND;TZID=UTC:20240620T150000
DTSTAMP:20260422T222203
CREATED:20240608T103048Z
LAST-MODIFIED:20240808T103525Z
UID:14617-1718888400-1718895600@ideg.org
SUMMARY:Post 2024 Limited Voter Registration Exercise - Evaluation Workshop
DESCRIPTION:
URL:https://ideg.org/event/post2024lvre/
LOCATION:IDEG HOUSE\, # 24\, 24 Garden Rd\, Accra\, Accra\, East legon\, Ghana
ATTACH;FMTTYPE=image/jpeg:https://ideg.org/wp-content/uploads/2024/08/GQduAg1WQAAA80n.jpeg
END:VEVENT
BEGIN:VEVENT
DTSTART;TZID=UTC:20231026T093000
DTEND;TZID=UTC:20231026T113000
DTSTAMP:20260422T222203
CREATED:20231025T170645Z
LAST-MODIFIED:20231025T170645Z
UID:14489-1698312600-1698319800@ideg.org
SUMMARY:LAUNCH OF THE 2022 CSO SUSTAINABILITY INDEX REPORT
DESCRIPTION:Launch of The 2022 CSO Sustainability Index Report  \n“Ghana’s Economic Crisis: Threats and Opportunities for CSO Sustainability”. \nThe CSO Sustainability Index report assesses the strength and overall viability of CSO sectors in Ghana and Africa. The report analyses seven dimensions that are critical to sectoral sustainability\, namely\, Legal Environment\, Organizational Capacity\, Financial Viability\, Advocacy\, Service Provision\, Infrastructure and Public Image.
URL:https://ideg.org/event/launch-of-the-2022-cso-sustainability-index-report/
LOCATION:East legon
ATTACH;FMTTYPE=image/jpeg:https://ideg.org/wp-content/uploads/2023/10/CSOSI22.jpg
END:VEVENT
BEGIN:VEVENT
DTSTART;TZID=UTC:20231025T080000
DTEND;TZID=UTC:20231025T130000
DTSTAMP:20260422T222203
CREATED:20231025T164644Z
LAST-MODIFIED:20231025T164644Z
UID:14486-1698220800-1698238800@ideg.org
SUMMARY:STAKEHOLDERS DIALOGUE ON COUNTERING POTENTIAL ELECTION INTERFERENCE IN GHANA
DESCRIPTION:Given the evolving landscape of global politics and the concerning erosion of democratic values across the African continent\, we believe it is of paramount importance to address the issue of election interference\, which has emerged as a significant threat to the sovereignty of democratic nations and the well-being of citizens. \nThe dialogue aims to provide a platform for insightful discussions on the challenges posed by election interference\, both from state and non-state actors. We intend to explore: (1) the tools and mechanisms associated with election interference; and (2) effective strategies and collaborative efforts that can be employed to safeguard the integrity of Ghana’s electoral processes as well as democratic rights of citizens in the forthcoming 2024 general elections.
URL:https://ideg.org/event/stakeholders-dialogue-on-countering-potential-election-interference-in-ghana/
LOCATION:East legon
ATTACH;FMTTYPE=image/png:https://ideg.org/wp-content/uploads/2023/10/IDEG-Backdrop_001.png
END:VEVENT
BEGIN:VEVENT
DTSTART;TZID=UTC:20230713T100000
DTEND;TZID=UTC:20230713T130000
DTSTAMP:20260422T222203
CREATED:20230712T011621Z
LAST-MODIFIED:20230712T011621Z
UID:14464-1689242400-1689253200@ideg.org
SUMMARY:SENSITIZATION WORKSHOP
DESCRIPTION:SENSITIZATION WORKSHOP ON “ANTI-MONEY LAUNDERING/COUNTER-TERRORISM FINANCING MEASURES FOR NPO’S IN GHANA” \nThe Inter-Governmental Action Group against Money Laundering (GIABA)’s Mutual Evaluation Report (MER) in 2019\, rated Ghana as non-compliant to FATF’s Recommendation 8.  GIABA was particularly concerned that Ghana’s regulatory framework was porous and exposed the NPOs to the abuse of money laundering and financing terrorist activities. Consequently\, in 2020\, Ghana was blacklisted by the European Union (EU) due to weak anti-money laundering and terrorist financing policy and legislative measures. \nIn response\, the Government of Ghana (GoG) undertook a number of steps to strengthen its legal and regulatory frameworks: (1) enacted the Anti-Money Laundering Act\, 2020 (Act 1044); (2) drafted the National Non-Profit Organization Policy 2020; (3) and established the NPO secretariat to facilitate and enforce regular reporting and renewal of operating permits for NPOs. These were aimed at helping the country meet its international obligations relating to AML/CFT measures.  While these measures undeniably contribute to the fight against terrorism\, they have also inadvertently encumbered the operations of civil society organizations (CSOs).  According to ICNL (2021)\, globally there have been a number of cases when overregulation related to anti-money laundering and counter-terrorism financing (AML/CFT) has negatively affected nonprofit organizations (NPOs). Some of these negative unintended impacts on NPOs include stringent regulations and financial restrictions imposed on NPOs. \nAgainst this background\, IDEG conducted a baseline study to examine the impact of these regulatory measures on the operations of NPOs. IDEG is subsequently\, organizing a sensitization workshop to educate NPO’s and raise awareness on these measures.
URL:https://ideg.org/event/sensitization-workshop/
LOCATION:Tamale\, Ghana
ATTACH;FMTTYPE=image/jpeg:https://ideg.org/wp-content/uploads/2023/07/snigafft.jpg
END:VEVENT
BEGIN:VEVENT
DTSTART;TZID=UTC:20230706T100000
DTEND;TZID=UTC:20230706T120000
DTSTAMP:20260422T222203
CREATED:20230706T111208Z
LAST-MODIFIED:20230706T111223Z
UID:14460-1688637600-1688644800@ideg.org
SUMMARY:VALIDATION WORKSHOP
DESCRIPTION:BASELINE STUDY ON:  \n“THE IMPACT OF GHANA’S AML/CFT MEASURES ON NPOs” \nThe Institute for Democratic Governance (IDEG) wishes to invite you to cover and participate in a validation workshop on the “Impact of Ghana’s AML/CFT Measures on NPOs” which will take place on Thursday 6th July 2023 from 10 am to 12 pm. \nThe Inter-Governmental Action Group against Money Laundering (GIABA)’s Mutual Evaluation Report (MER) in 2019\, rated Ghana as non-compliant to FATF’s Recommendation 8.  GIABA was particularly concerned that Ghana’s regulatory framework was porous and exposed the NPOs to the abuse of money laundering and financing terrorist activities. Consequently\, in 2020\, Ghana was blacklisted by the European Union (EU) due to weak anti-money laundering and terrorist financing policy and legislative measures.
URL:https://ideg.org/event/validation-workshop/
LOCATION:IDEG HOUSE\, # 24\, 24 Garden Rd\, Accra\, Accra\, East legon\, Ghana
ATTACH;FMTTYPE=image/png:https://ideg.org/wp-content/uploads/2023/07/BASELINE-STUDY-AML-CFT.png
END:VEVENT
BEGIN:VEVENT
DTSTART;TZID=UTC:20230620T100000
DTEND;TZID=UTC:20230620T130000
DTSTAMP:20260422T222203
CREATED:20230619T170010Z
LAST-MODIFIED:20230619T170010Z
UID:14440-1687255200-1687266000@ideg.org
SUMMARY:TRAINING WORKSHOP
DESCRIPTION:“NOT-FOR-PROFIT ORGANSITIONS AND THE IMPLEMENTATION OF ANTI-MONEY LAUNDERING/COUNTERING THE FINANCING OF TERRORISM (AML/CFT) MEASURES IN GHANA”  \nTRAINING WORKSHOP
URL:https://ideg.org/event/training-workshop/
LOCATION:IDEG HOUSE\, # 24\, 24 Garden Rd\, Accra\, Accra\, East legon\, Ghana
ATTACH;FMTTYPE=image/jpeg:https://ideg.org/wp-content/uploads/2023/06/t-npos.jpeg
END:VEVENT
BEGIN:VEVENT
DTSTART;TZID=UTC:20230523T100000
DTEND;TZID=UTC:20230523T120000
DTSTAMP:20260422T222203
CREATED:20230523T025405Z
LAST-MODIFIED:20230523T025405Z
UID:14338-1684836000-1684843200@ideg.org
SUMMARY:CFI STEERING COMMITTEE MEETING
DESCRIPTION:CFI STEERING COMMITTEE MEETING
URL:https://ideg.org/event/cfi-steering-committee-meeting/
LOCATION:IDEG HOUSE\, # 24\, 24 Garden Rd\, Accra\, Accra\, East legon\, Ghana
ATTACH;FMTTYPE=image/jpeg:https://ideg.org/wp-content/uploads/2023/05/steering-committee.jpg
END:VEVENT
BEGIN:VEVENT
DTSTART;TZID=UTC:20230518T093000
DTEND;TZID=UTC:20230518T120000
DTSTAMP:20260422T222203
CREATED:20230516T164744Z
LAST-MODIFIED:20230516T165527Z
UID:14279-1684402200-1684411200@ideg.org
SUMMARY:2022 CSO SUSTAINABILITY INDEX EXPERT PANEL MEETING
DESCRIPTION:The Expert Panel Meeting will help develop a consensus-based rating for each of the seven dimensions of Sustainability covered by the Index for the year 2022.
URL:https://ideg.org/event/2022-cso-sustainability-index-expert-panel-meeting/
LOCATION:IDEG HOUSE\, # 24\, 24 Garden Rd\, Accra\, Accra\, East legon\, Ghana
ATTACH;FMTTYPE=image/jpeg:https://ideg.org/wp-content/uploads/2023/05/2022-CSO-SI-PANEL-MEETING.jpg
END:VEVENT
END:VCALENDAR