BEGIN:VCALENDAR
VERSION:2.0
PRODID:-//Institute for Democratic Governance (IDEG) - ECPv6.6.0.2//NONSGML v1.0//EN
CALSCALE:GREGORIAN
METHOD:PUBLISH
X-WR-CALNAME:Institute for Democratic Governance (IDEG)
X-ORIGINAL-URL:https://ideg.org
X-WR-CALDESC:Events for Institute for Democratic Governance (IDEG)
REFRESH-INTERVAL;VALUE=DURATION:PT1H
X-Robots-Tag:noindex
X-PUBLISHED-TTL:PT1H
BEGIN:VTIMEZONE
TZID:UTC
BEGIN:STANDARD
TZOFFSETFROM:+0000
TZOFFSETTO:+0000
TZNAME:UTC
DTSTART:20250101T000000
END:STANDARD
END:VTIMEZONE
BEGIN:VEVENT
DTSTART;TZID=UTC:20250429T090000
DTEND;TZID=UTC:20250504T170000
DTSTAMP:20260422T215417
CREATED:20250430T142940Z
LAST-MODIFIED:20250430T143703Z
UID:14943-1745917200-1746378000@ideg.org
SUMMARY:POST-2024 ELECTIONS: TOWARDS ELECTORAL REFORMS  AND PUBLIC AWARENESS ON AFFIRMATIVE ACTION LAW
DESCRIPTION:
URL:https://ideg.org/event/post-gh2024/
LOCATION:East legon
ATTACH;FMTTYPE=image/jpeg:https://ideg.org/wp-content/uploads/2025/04/3.jpg
END:VEVENT
BEGIN:VEVENT
DTSTART;TZID=UTC:20250430T093000
DTEND;TZID=UTC:20250504T170000
DTSTAMP:20260422T215417
CREATED:20250430T142751Z
LAST-MODIFIED:20250430T144111Z
UID:14937-1746005400-1746378000@ideg.org
SUMMARY:BRIDGING THE GAP: CITIZEN ENGAGEMENT IN GHANA’S CONSTITUTIONAL REVIEW PROCESS
DESCRIPTION:
URL:https://ideg.org/event/thegap/
LOCATION:East legon
ATTACH;FMTTYPE=image/jpeg:https://ideg.org/wp-content/uploads/2025/04/2.jpg
END:VEVENT
BEGIN:VEVENT
DTSTART;TZID=UTC:20250815T080000
DTEND;TZID=UTC:20250901T170000
DTSTAMP:20260422T215417
CREATED:20250815T005027Z
LAST-MODIFIED:20250815T183009Z
UID:14964-1755244800-1756746000@ideg.org
SUMMARY:MESSAGE OF CONDOLENCE
DESCRIPTION:The Institute for Democratic Governance (IDEG) and the Civic Forum Initiative (CFI) are deeply saddened by the tragic loss of the lives of Hon. Dr. Omane Boamah\, Minister for Defense\, Hon. Alhaji Dr. Ibrahim Murtala Mohammed\, Minister for Environment\, Science and Technology\, Alhaji Muniru Mohammed\, Acting Deputy National Security Coordinator\, Dr. Samuel Sarpong\, Vice Chairman of the National Democratic Congress (NDC)\, Mr. Samuel Aboagye\, Former Parliamentary Candidate and the three military officers who died in the line of service. We extend our heartfelt condolences to their wives\, children and families. \nTo the President of the Republic of Ghana\, His Excellency John Dramani Mahama\, the government\, the Ghana Armed Forces and the National Democratic Congress\, we offer our sincere sympathies. We pray that the good Lord will console the nation in this time of deep sorrow for the untimely loss of our dear compatriots. \nWe support the investigation of this painful accident and the adoption of appropriate measures to prevent recurrence in the future. \nSIGNED
URL:https://ideg.org/event/message-of-condolence/
LOCATION:East legon
ATTACH;FMTTYPE=image/jpeg:https://ideg.org/wp-content/uploads/2025/08/FF-CM.jpg
END:VEVENT
BEGIN:VEVENT
DTSTART;TZID=UTC:20260331T100000
DTEND;TZID=UTC:20260331T120000
DTSTAMP:20260422T215417
CREATED:20260330T175904Z
LAST-MODIFIED:20260330T180411Z
UID:15005-1774951200-1774958400@ideg.org
SUMMARY:Policy Dialogue “Effective Constitutional Amendment: The Necessity of Legal and Institutional Safeguards”
DESCRIPTION:Since 2010\, Ghana has pursued constitutional reform through the Constitution Review Commission and the subsequent Constitution Review Implementation Committee\, following extensive public consultations and the submission of the Commission’s report in 2011. However\, implementation stalled across four electoral cycles (2012–2024). \nAmid the historical context of repeated yet unsuccessful attempts at constitutional reform\, recent developments particularly President John Dramani Mahama’s “Reset Agenda” and the submission of the Constitutional Review Committee (CRC) report by the Prof. H. Kwasi Prempeh Committee have renewed momentum for reform efforts. Nonetheless\, in the absence of clear legal and institutional pathways\, the implementation of the 2025 CRC report risks being undermined or abandoned. \nAs a governance think tank\, IDEG is convening this policy dialogue to bring together policymakers\, scholars\, civil society actors\, and governance practitioners to examine the critical pathways for effective constitutional reform implementation in Ghana. \nThe dialogue will focus on three key areas: \n\nLegal and procedural considerations surrounding amendments to entrenched and non-entrenched provisions.\nInstitutional mechanisms required to sustain constitutional reform implementation beyond electoral cycles\, and\nConstitutional options and structural reforms to improve women’s political representation in Ghana\n\nPROGRAM OUTLINE MAR 31
URL:https://ideg.org/event/pdconstitutionalamendment/
LOCATION:IDEG HOUSE\, # 24\, 24 Garden Rd\, Accra\, Accra\, East legon\, Ghana
ATTACH;FMTTYPE=image/jpeg:https://ideg.org/wp-content/uploads/2026/03/poilcy-ideg-oxfam.jpg.jpeg
END:VEVENT
END:VCALENDAR