BEGIN:VCALENDAR
VERSION:2.0
PRODID:-//Institute for Democratic Governance (IDEG) - ECPv6.6.0.2//NONSGML v1.0//EN
CALSCALE:GREGORIAN
METHOD:PUBLISH
X-WR-CALNAME:Institute for Democratic Governance (IDEG)
X-ORIGINAL-URL:https://ideg.org
X-WR-CALDESC:Events for Institute for Democratic Governance (IDEG)
REFRESH-INTERVAL;VALUE=DURATION:PT1H
X-Robots-Tag:noindex
X-PUBLISHED-TTL:PT1H
BEGIN:VTIMEZONE
TZID:UTC
BEGIN:STANDARD
TZOFFSETFROM:+0000
TZOFFSETTO:+0000
TZNAME:UTC
DTSTART:20250101T000000
END:STANDARD
END:VTIMEZONE
BEGIN:VEVENT
DTSTART;TZID=UTC:20250815T080000
DTEND;TZID=UTC:20250901T170000
DTSTAMP:20260422T014901
CREATED:20250815T005027Z
LAST-MODIFIED:20250815T183009Z
UID:14964-1755244800-1756746000@ideg.org
SUMMARY:MESSAGE OF CONDOLENCE
DESCRIPTION:The Institute for Democratic Governance (IDEG) and the Civic Forum Initiative (CFI) are deeply saddened by the tragic loss of the lives of Hon. Dr. Omane Boamah\, Minister for Defense\, Hon. Alhaji Dr. Ibrahim Murtala Mohammed\, Minister for Environment\, Science and Technology\, Alhaji Muniru Mohammed\, Acting Deputy National Security Coordinator\, Dr. Samuel Sarpong\, Vice Chairman of the National Democratic Congress (NDC)\, Mr. Samuel Aboagye\, Former Parliamentary Candidate and the three military officers who died in the line of service. We extend our heartfelt condolences to their wives\, children and families. \nTo the President of the Republic of Ghana\, His Excellency John Dramani Mahama\, the government\, the Ghana Armed Forces and the National Democratic Congress\, we offer our sincere sympathies. We pray that the good Lord will console the nation in this time of deep sorrow for the untimely loss of our dear compatriots. \nWe support the investigation of this painful accident and the adoption of appropriate measures to prevent recurrence in the future. \nSIGNED
URL:https://ideg.org/event/message-of-condolence/
LOCATION:East legon
ATTACH;FMTTYPE=image/jpeg:https://ideg.org/wp-content/uploads/2025/08/FF-CM.jpg
END:VEVENT
END:VCALENDAR